BEGIN:VCALENDAR
VERSION:2.0
PRODID:-//ExhibitionMatches.com//NONSGML v1.0//EN
BEGIN:VEVENT
UID=75D172B1-A29B-3622-BCD53B8B6527AC88
DTSTAMP=20260424T051356Z
DTSTART;VALUE=DATE:20260501
DTEND;VALUE=DATE:20260504
SUMMARY:NMWUSA Olympic Styles State Championships
LOCATION:Volcano Vista High School, 8100 Rainbow Road NW, Albuquerque, NM, 87114
DESCRIPTION:View full event details: https://wrestlingtournaments.org/view.cfm?ID=107156
Contact: Ahren Griego ahren.griego@aps.edu
URL;VALUE=URI:https://wrestlingtournaments.org/view.cfm?ID=107156
END:VEVENT
END:VCALENDAR